BEGIN:VCALENDAR
VERSION:2.0
PRODID:-//De Harmonie Ede - ECPv6.15.20//NONSGML v1.0//EN
CALSCALE:GREGORIAN
METHOD:PUBLISH
X-ORIGINAL-URL:https://www.deharmonie.org
X-WR-CALDESC:Evenementen voor De Harmonie Ede
REFRESH-INTERVAL;VALUE=DURATION:PT1H
X-Robots-Tag:noindex
X-PUBLISHED-TTL:PT1H
BEGIN:VTIMEZONE
TZID:Europe/Amsterdam
BEGIN:DAYLIGHT
TZOFFSETFROM:+0100
TZOFFSETTO:+0200
TZNAME:CEST
DTSTART:20250330T010000
END:DAYLIGHT
BEGIN:STANDARD
TZOFFSETFROM:+0200
TZOFFSETTO:+0100
TZNAME:CET
DTSTART:20251026T010000
END:STANDARD
BEGIN:DAYLIGHT
TZOFFSETFROM:+0100
TZOFFSETTO:+0200
TZNAME:CEST
DTSTART:20260329T010000
END:DAYLIGHT
BEGIN:STANDARD
TZOFFSETFROM:+0200
TZOFFSETTO:+0100
TZNAME:CET
DTSTART:20261025T010000
END:STANDARD
BEGIN:DAYLIGHT
TZOFFSETFROM:+0100
TZOFFSETTO:+0200
TZNAME:CEST
DTSTART:20270328T010000
END:DAYLIGHT
BEGIN:STANDARD
TZOFFSETFROM:+0200
TZOFFSETTO:+0100
TZNAME:CET
DTSTART:20271031T010000
END:STANDARD
END:VTIMEZONE
BEGIN:VEVENT
DTSTART;TZID=Europe/Amsterdam:20260504T194500
DTEND;TZID=Europe/Amsterdam:20260504T210000
DTSTAMP:20260419T185547
CREATED:20251218T210216Z
LAST-MODIFIED:20251218T210216Z
UID:2923-1777923900-1777928400@www.deharmonie.org
SUMMARY:Dodenherdenking 2026
DESCRIPTION:Jaarlijks speelt De Harmonie bij de dodenherdenking bij het Mausoleum aan de Vossenakker in Ede.
URL:https://www.deharmonie.org/events/dodenherdenking-2026/
LOCATION:Mausoleum\, Ede
END:VEVENT
BEGIN:VEVENT
DTSTART;TZID=Europe/Amsterdam:20260620T143000
DTEND;TZID=Europe/Amsterdam:20260620T153000
DTSTAMP:20260419T185547
CREATED:20251218T210104Z
LAST-MODIFIED:20260418T210240Z
UID:2920-1781965800-1781969400@www.deharmonie.org
SUMMARY:Kinderconcert De Muziekreis
DESCRIPTION:Roos vindt een brief in een oude koffer. In die brief wordt ze gevraagd om op zoek te gaan naar het Wereldlied. En daarvoor moet ze op reis. In haar rode luchtballon! \nTijdens het kinderconcert van De Harmonie neemt Roos (gespeeld door actrice Ilsa Lameris) de kinderen mee op een muzikale reis door Europa. In elk land ontdekt zij samen met de kinderen bijzondere voorwerpen\, terwijl het orkest muziek speelt die bij de verschillende landen past. Daarnaast gaan de kinderen mee op zoek naar het Wereldlied. Tijdens het concert ontvangen zij een paspoort\, waarin ze bij elk bezocht land een stempel kunnen zetten. Kortom\, een afwisselend en interactief concert voor kinderen vanaf 4 jaar oud. \nHet concert vindt plaats op zaterdag 20 juni 2026 om 14.30 uur in verenigingsgebouw De Kei\, Peppelensteeg 12 in Ede. De zaal gaat open om 14.00 uur. De toegang is gratis\, maar we vragen iedereen om te reserveren om zeker te zijn van een plekje in de zaal. \n \nVragen over het concert? Neem contact met ons op via concerten@deharmonie.org.
URL:https://www.deharmonie.org/events/kinderconcert/
LOCATION:De Kei\, Peppelensteeg 12\, Ede\, 6715 CV\, Netherlands
END:VEVENT
BEGIN:VEVENT
DTSTART;TZID=Europe/Amsterdam:20260919T113000
DTEND;TZID=Europe/Amsterdam:20260919T123000
DTSTAMP:20260419T185547
CREATED:20260325T155020Z
LAST-MODIFIED:20260325T155020Z
UID:2940-1789817400-1789821000@www.deharmonie.org
SUMMARY:Herdenking Airborne luchtlandingen
DESCRIPTION:De Harmonie speelt jaarlijks bij de herdenking van de Airborne luchtlanding op de Ginkelse Heide. De herdenking vindt plaats van 11.30 tot 12.30 uur. Het volledige programma is te bekijken via de website van de Gemeente Ede.
URL:https://www.deharmonie.org/events/herdenking-airborne-luchtlandingen-2/
LOCATION:Ginkelse Heide\, Verlengde Arnhemseweg\, Ede\, Netherlands
END:VEVENT
BEGIN:VEVENT
DTSTART;TZID=Europe/Amsterdam:20261114T200000
DTEND;TZID=Europe/Amsterdam:20261114T220000
DTSTAMP:20260419T185547
CREATED:20260325T155350Z
LAST-MODIFIED:20260325T155350Z
UID:2942-1794686400-1794693600@www.deharmonie.org
SUMMARY:Filmconcert
DESCRIPTION:Tijd voor een concert met een populair thema: filmmuziek! We maken er een gevarieerde avond van met muziek van diverse films. Natuurlijk met een bakje popcorn of nacho’s voor het publiek. \nAls eerste op de hoogte zijn van de start van de kaartverkoop? Meld je aan voor onze nieuwsbrief!
URL:https://www.deharmonie.org/events/filmconcert-2/
LOCATION:Muziekcentrum Lunteren\, De Haverkamp 3\, Lunteren\, 6741 PM\, Netherlands
END:VEVENT
END:VCALENDAR